BEGIN:VCALENDAR
VERSION:2.0
PRODID:-//Digital affärsutveckling - ECPv6.15.20//NONSGML v1.0//EN
CALSCALE:GREGORIAN
METHOD:PUBLISH
X-ORIGINAL-URL:https://xn--digitalaffrsutveckling-94b.se
X-WR-CALDESC:Händelser för Digital affärsutveckling
REFRESH-INTERVAL;VALUE=DURATION:PT1H
X-Robots-Tag:noindex
X-PUBLISHED-TTL:PT1H
BEGIN:VTIMEZONE
TZID:UTC
BEGIN:STANDARD
TZOFFSETFROM:+0000
TZOFFSETTO:+0000
TZNAME:UTC
DTSTART:20250101T000000
END:STANDARD
END:VTIMEZONE
BEGIN:VEVENT
DTSTART;VALUE=DATE:20260826
DTEND;VALUE=DATE:20260827
DTSTAMP:20260422T221900
CREATED:20260415T062121Z
LAST-MODIFIED:20260415T062128Z
UID:2110-1787702400-1787788799@xn--digitalaffrsutveckling-94b.se
SUMMARY:SEO - kurs online
DESCRIPTION:SEO kurs online\n			\n			\n				\n				\n				\n				\n			\n				\n				\n				\n				\n				\n				\n				\n				\n				\n				\n				Höj din webbs synlighet och öka trafiken med SEO (sökordsoptimering). Optimera din position på Google. Mästra verktygen för effektiv SEO. Säkra långsiktig synlighet och tillväxt.  \n			\n				Köp utbildning i SEO på distans här\n			\n				\n				\n				\n				\n				Den här kursen vänder sig till dig som vill synas på Google med din hemsida. Du behöver inga förkunskaper. \nKursen leds av Lucia Mati som har jobbat med webb och utbildning under 10 års tid. Utbildningen är enkel att följa. Läs mer om Lucia här. \nDu får vägledning genom ett digitalt möte och behöver bara följa instruktioner. \n			\n			\n				\n				\n				\n				\n				\n				\n				\n				\n				\n				\n			\n			\n				\n				\n				\n				\n			\n				\n				\n			\n				\n				\n				\n				\n				\n				\n				\n				\n				\n				\n				\n				\n				\n				\n				\n				\n				\n				Efter kursen kan du:\n\nAnpassa din hemsida efter Googles algoritmer\nGenomföra effektiv sökordsanalys och skapa innehåll som engagerar din målgrupp\nUtveckla en långsiktig SEO-strategi\nFörstå Off-page SEO och din webbplats roll i sitt ekosystem\n\nVi börjar med grunderna inom Search Marketing\, med en djupdykning i SEO. Vi utforskar hur din målgrupp söker och interagerar på Google genom hela kundresan. \n			\n			\n				\n				\n				\n				\n			\n				\n				\n			\n				\n				\n				\n				\n				\n				\n				\n				\n				\n				\n				\n				\n				\n				\n				\n				\n				\n				\n			\n			\n				\n				\n				\n				\n				\n				\n				\n				\n				\n				\n			\n				\n				\n				\n				\n				SEO kurs\n			\n				\n				\n				\n				\n				Kursinnehåll | 2\,5 timmar – 1 lektion\n			\n				\n				\n				\n				\n				\n					\n					\n						Grunder i SEO\n						\n					\n				\n			\n				\n				\n				\n				\n				\n					\n					\n						Offpage SEO\n						\n					\n				\n			\n				\n				\n				\n				\n				\n					\n					\n						Teknisk SEO\n						\n					\n				\n			\n				\n				\n				\n				\n				1. Sökintention & KundresanSökintention & KundresanFörstå din målgrupps beteende \n2. Algoritmer & Google EATFå inblick i algoritmernas logik \n3. Sökordsanalys & StrategiIdentifiera relevanta söktermer och utforma en effektiv sökordsstrategi \n4. Innehållsstrategi & Cluster TopicSkapa en strukturerad innehållsplan \n5. Content Audit & PlaneringIdentifiera och optimera innehåll för bättre prestanda \n6. AI-verktygAnvända AI som ChatGPT för effektivisering av arbetsprocesser \n7. Innehållsproduktion & OptimeringSkriv och optimera innehåll för olika webbsidor \n8. Nyckeltal & VerktygAnvända verktyg och KPI:er för SEO-analys \n9. ÖvningPraktiskt arbete med sökordsanalys och innehållsoptimering \n  \nI den andra delen av kursen fokuserar vi på Offpage SEO och teknisk SEO. Vi utforskar hur du kan bygga kvalitativa länkar och optimera din webbplats för snabbare laddningstider och bättre användarupplevelse. \n1. Offpage SEOBygga relationer\, hantera backlinks och mentions \n2. LänkstrategiSkapa en hållbar länkstrategi i enlighet med Googles riktlinjer \n3. Teknisk SEOOptimering av sidladdningstider och sidstruktur \n4. IndexeringSäkerställ korrekt indexering och förstå sitemap och robots.txt \n5. Google Core Web VitalsGrundläggande förbättringar för din webbplats \n6. RedirectPlanera och genomföra nödvändiga redirects vid webbplatsförändringar \n7. Google Search ConsoleAnvända verktyg och nyckeltal för att övervaka prestanda \n8. ÖvningGenomföra en Core Web Vitals-analys av din egen webbplats \n  \n			\n			\n				\n				\n				\n				\n			\n				\n				\n			\n				\n				\n				\n				\n				\n				\n				\n				\n				\n				\n				\n				\n				\n				\n				\n				\n				\n				\n			\n				\n				\n				\n				\n				Högsta betyg\n			\n			\n				\n				\n				\n				\n			\n				\n				\n				\n				\n				\n				\n				\n				\n				\n				\n				98% är nöjda \n			\n				\n				\n				\n				\n				Högsta betyg och nöjda kunder på utbildning\n			\n			\n				\n				\n				\n				\n				\n				\n				\n				\n				\n				\n			\n			\n				\n				\n				\n				\n			\n				\n				\n			\n				\n				\n				\n				\n				\n				\n				\n				\n				\n				\n				\n				\n				\n				\n				\n				\n				\n				\n					\n					\n						"Lucia is my top of mind when thinking of SEO. She has been helping our business to gain organic traffic\, exceeding all expectations and initial objectives. I can say she is absolutely committed to her work\, very passionate about what she does and therefore I would say that she takes any project as if it was her own.   In the work setting\, she is well organized\, analytical\, professional and super easy to work with. Lucia understands challenges fast\, gets involved immediately and has really sharp\, creative and smart ideas on her field."\n						Bente Malmberg – CEO\, Notebloc \n					\n				\n			\n			\n				\n				\n				\n				\n			\n				\n				\n			\n				\n				\n				\n				\n				\n				\n				\n				\n				\n				\n				\n				\n				\n				\n				\n				\n				\n				Tjänster\nSEO \nDigital Analys \nInnehåll \nWordPress Hemsida\n			\n			\n				\n				\n				\n				\n				\n				\n				\n				\n				\n				Information\nBlogg \nOm \nHur det fungerar \nKontakt\n			\n			\n				\n				\n				\n				\n				\n				\n				\n				\n				\n				Registrera dig för vårt nyhetsbrev\n			\n				\n				\n				\n				\n				\n				\n				\n					\n						\n						\n							Meddelande om lyckad överföring\n						\n						\n							\n							\n							\n					\n						E-post\n						\n					 \n							\n							\n					\n						\n							\n							Prenumerera\n						\n					 \n							\n						\n						\n						\n						\n						\n						\n					\n				\n			\n				\n				\n				\n				\n				FöljFöljFölj
URL:https://xn--digitalaffrsutveckling-94b.se/event/seo-kurs-online-22/
LOCATION:På distans
ORGANIZER;CN="Digitalaff%C3%A4rsutveckling.se":MAILTO:hello@digitalaffärsutveckling.se
END:VEVENT
END:VCALENDAR